BEGIN:VCALENDAR
VERSION:2.0
PRODID:-//Nirmala Yoga - ECPv6.15.12.1//NONSGML v1.0//EN
CALSCALE:GREGORIAN
METHOD:PUBLISH
X-WR-CALNAME:Nirmala Yoga
X-ORIGINAL-URL:https://nirmalayoga.de
X-WR-CALDESC:Veranstaltungen für Nirmala Yoga
REFRESH-INTERVAL;VALUE=DURATION:PT1H
X-Robots-Tag:noindex
X-PUBLISHED-TTL:PT1H
BEGIN:VTIMEZONE
TZID:Europe/Berlin
BEGIN:DAYLIGHT
TZOFFSETFROM:+0100
TZOFFSETTO:+0200
TZNAME:CEST
DTSTART:20250330T010000
END:DAYLIGHT
BEGIN:STANDARD
TZOFFSETFROM:+0200
TZOFFSETTO:+0100
TZNAME:CET
DTSTART:20251026T010000
END:STANDARD
BEGIN:DAYLIGHT
TZOFFSETFROM:+0100
TZOFFSETTO:+0200
TZNAME:CEST
DTSTART:20260329T010000
END:DAYLIGHT
BEGIN:STANDARD
TZOFFSETFROM:+0200
TZOFFSETTO:+0100
TZNAME:CET
DTSTART:20261025T010000
END:STANDARD
BEGIN:DAYLIGHT
TZOFFSETFROM:+0100
TZOFFSETTO:+0200
TZNAME:CEST
DTSTART:20270328T010000
END:DAYLIGHT
BEGIN:STANDARD
TZOFFSETFROM:+0200
TZOFFSETTO:+0100
TZNAME:CET
DTSTART:20271031T010000
END:STANDARD
END:VTIMEZONE
BEGIN:VEVENT
DTSTART;TZID=Europe/Berlin:20260614T170000
DTEND;TZID=Europe/Berlin:20260619T140000
DTSTAMP:20260420T114459
CREATED:20250903T155801Z
LAST-MODIFIED:20251122T091413Z
UID:49560-1781456400-1781877600@nirmalayoga.de
SUMMARY:Energiekörper Kur - Wellness für die Seele
DESCRIPTION:Erfahre\, wie du durch achtsame Abgrenzung und die „unsichtbare Blase“ dein Energiefeld schützt\, bei dir bleibst und offen für Liebe und Frieden wirst. \n \nWarum wir Abgrenzung brauchen\, um offen zu bleiben \nHeute möchte ich eine wichtige Erkenntnis mit euch teilen. \nWie viele von euch wissen\, nehmen Sven-Oliver und ich uns ein- bis zweimal im Jahr eine längere Auszeit. Diese Zeit ist für uns heilig – um aufzutanken\, viel in der Natur zu sein\, tief zu meditieren\, unsere Ziele zu prüfen\, sie mit unserer Vision abzugleichen und uns neu auszurichten. \nBei unserer letzten Auszeit kam in mir eine Frage auf:Warum brauche ich eigentlich eine Auszeit\, wenn ich doch regelmäßig meditiere?Und warum gibt es trotzdem Phasen\, in denen ich mich erschöpft fühle? \nVielleicht kennst du dieses Gefühl auch: Du kommst abends nach Hause und bist völlig erschöpft – obwohl du eigentlich gar nichts „Großes“ getan hast. Dein Kopf rauscht\, dein Herz ist unruhig\, und du wünschst dir einfach nur Ruhe. \nIch habe erkannt\, dass es nicht am Tun liegt\, sondern daran\, dass wir zu viel aufnehmen – zu viel von dem\, was in unser Innenfeld fließt. \nWenn Offenheit zu viel wird \nWir leben in einer Zeit\, in der alles gleichzeitig auf uns einströmt: Nachrichten\, Meinungen\, Termine\, Erwartungen – Schicht über Schicht. Unser Nervensystem ist dafür nicht geschaffen. \nWenn wir all das ungefiltert in uns aufnehmen – Informationen\, Emotionen\, Sorgen anderer – und uns zusätzlich verantwortlich fühlen für Dinge\, die gar nicht unsere sind\, dann kollabiert irgendwann unser Energiesystem. Wir sind zu offen\, zu durchlässig. \nVielleicht hast du gelernt: „Man sollte offen für alles sein.“Das klingt sympathisch\, aber es ist trügerisch. \nTotale Offenheit ist kein Zeichen von Weite\, sondern von Grenzlosigkeit.Ein Baum ist offen für Sonne und Regen – und hat dennoch eine Rinde.Dein Körper nimmt Nahrung auf – aber er verdaut nur\, was ihm guttut. \nWarum sollte es in deinem Inneren anders sein? \nAbgrenzung ist Selbstliebe \nAbgrenzung hat in unserer Gesellschaft kein gutes Image. Oft wird sie als egoistisch oder unsozial bezeichnet. Doch das Gegenteil ist wahr. \nAbgrenzung ist kein Rückzug\, sondern ein Akt der Selbstverantwortung und der Selbstliebe.Ein achtsames: „Nur das\, was mir dient.“ \nDenn wie willst du der Welt dienen\, wenn du müde und ausgelaugt bist?Wie kannst du Liebe geben\, wenn du selbst keine innere Balance hast? \nAbgrenzung ist also nicht Trennung\, sondern die Voraussetzung für echtes Dasein. \nDie unsichtbare Blase \nEs braucht eine neue Form von Schutz – eine\, die weich\, lebendig und intelligent ist.Stell dir vor\, du bist umgeben von einer feinen\, lichtdurchlässigen Blase.Sie ist keine Mauer\, sondern eine atmende Hülle\, die genau weiß\, was dir guttut und was nicht. \nSie lässt all das hinein\, was dich nährt\, inspiriert und stärkt.Und sie hält das draußen\, was dich schwächt\, überfordert oder nichts mit dir zu tun hat. \nSo bleibst du offen – aber zentriert.Mitfühlend – aber nicht überfordert.Verbunden – aber klar. \nWenn Klarheit wieder Lebensqualität bringt \nAbgrenzung ist keine Kälte.Sie ist Wärme in geordneter Form. \nSie lässt dich wieder spüren\, was wirklich wichtig ist.Du wirst ruhiger\, wacher\, klarer.Gespräche werden ehrlicher\, Begegnungen echter. \nDu reagierst nicht mehr automatisch auf alles\, sondern wählst bewusst\, womit du in Resonanz gehst.Die Welt bleibt laut\, aber du bleibst still.Und in dieser Stille öffnet sich wieder der Raum für Schönheit. \nWenn deine Aufmerksamkeit dein Zuhause wird \nEiner der kraftvollsten Wege zur Abgrenzung ist\, deine Aufmerksamkeit bewusst zu führen.Denn was du beachtest\, wächst. \nWenn du dich ständig mit allem beschäftigst\, was um dich herum passiert – Nachrichten\, Konflikte\, Sorgen anderer – verlierst du Energie.Doch sobald du deine Aufmerksamkeit zurückholst\, kehrst du in dein eigenes Feld zurück. \nDas kannst du den ganzen Tag über üben.Wann immer du merkst\, dass du dich verlierst\, atme tief\, spüre deinen Körper\, und lenke deine Wahrnehmung sanft zu dir zurück.Wie ein leises inneres „Ich bin hier“. \nMit der Zeit wird diese Rückkehr ganz natürlich. \nDie Blase ist keine Wand – sie ist Haut \nViele Menschen haben Angst\, dass Abgrenzung sie unnahbar macht.Aber eine gesunde Grenze ist wie Haut: Sie schützt – und spürt zugleich. \nDu kannst nah sein\, ohne dich zu verlieren.Empathisch\, ohne alles mitzutragen.Offen\, aber bewusst. \nDeine Blase ist kein Rückzug\, sondern ein Raum der Klarheit.Du bleibst verbunden – und frei. \nWenn deine Blase Risse bekommt \nManchmal merken wir gar nicht\, dass unsere innere Grenze löchrig geworden ist.Vielleicht erkennst du dich in diesen Momenten wieder: \n– Du bist in einem Raum voller Menschen und fühlst dich plötzlich unruhig.– Du hörst jemandem zu und trägst danach seine Sorgen mit dir herum.– Du scrollst durch Nachrichten oder Social Media und fühlst dich leer.– Du redest zu lange mit jemandem\, obwohl du innerlich schon längst gehen wolltest. \nDas sind Zeichen\, dass du zu offen warst.Dann hilft: innehalten\, atmen\, deine Blase spüren.Ein stilles „Ich bleibe bei mir.“Und dein System beginnt sich zu beruhigen. \nDeine tägliche Praxis – so stärkst du deine Blase \nAm Morgen \nNimm dir bewusst Zeit für dich:– Stehe ein wenig früher auf und schenke dir diese Zeit für Gesundheit und Ausrichtung.– 10 Minuten sanfte Körperübungen.– 10 Minuten Meditation.– 10 Minuten Tee trinken – in Ruhe – und deinen Tag liebevoll planen. \nPrüfe\, was heute wirklich wichtig ist.Entscheide\, was und wen du in dein Innenfeld lassen möchtest – und was du bewusst draußen lässt. \nIm Laufe des Tages \n– Beobachte\, was du aufnimmst – bewusst oder unbewusst.– Halte jede Stunde kurz inne und frage dich: „Wie geht es mir gerade?“– Prüfe\, ob du reagieren musst – oder ob Schweigen vielleicht genug ist.– Traue dich\, liebevoll Nein zu sagen.– Bleib achtsam im Umgang mit Medien\, Nachrichten und Social Media. \nAm Abend \n– Schalte alle Geräte aus und kehre in die Stille zurück.– Gehe deinen Tag achtsam durch: Was war gut? Wo möchtest du dich klarer halten?– Sei dankbar für das\, was du über dich gelernt hast.– Vergib – anderen und dir selbst. Wir alle geben unser Bestes.– Meditiere 15 Minuten vor dem Schlafengehen. Lass alles los\, was nicht zu dir gehört. \nTipp – dein Booster für inneres Wachstum \nWenn du lernen möchtest\, wie du dich energetisch schützen und gleichzeitig offener für das Licht in dir werden kannst\, dann erlebe es in der Praxis: \nMit der Technik von Nirmala Yoga lernst du\,– wie du dich mit einer einfachen Übung energetisch schützt\,– wie du deine Chakren über ein Fußbad von energetischem Staub befreist\,– und wie du deine Energiekanäle reinigst\, um tiefer in die Meditation zu gleiten. \nDer Weg nach Innen – Wochenendseminar12.–15. Dezember 2025Seminarhaus Sampurna (bei Wiesbaden) \nNimm dir Zeit für dich und entdecke die Kraft deiner unsichtbaren Blase – deinen Raum der Klarheit\, der Stille und der Liebe. \nMit Liebe\,Caroline \n 
URL:https://nirmalayoga.de/event/energiekoerper-kur-4/
LOCATION:Seminarhaus SAMPURNA\, Am Tiergarten 1\, Schlangenbad\, 65388\, Deutschland
CATEGORIES:- Seminar,für Aufsteiger,für Experten
ATTACH;FMTTYPE=image/jpeg:https://nirmalayoga.de/wp-content/uploads/2023/05/Energiekoerper-Kur.jpeg
END:VEVENT
BEGIN:VEVENT
DTSTART;TZID=Europe/Berlin:20260628T170000
DTEND;TZID=Europe/Berlin:20260703T160000
DTSTAMP:20260420T114459
CREATED:20240610T155952Z
LAST-MODIFIED:20241207T124322Z
UID:45755-1782666000-1783094400@nirmalayoga.de
SUMMARY:Masterausbildung - Nirmala Yoga Meditationslehrer/ in - Intensivwoche
DESCRIPTION:Erfahre\, wie du durch achtsame Abgrenzung und die „unsichtbare Blase“ dein Energiefeld schützt\, bei dir bleibst und offen für Liebe und Frieden wirst. \n \nWarum wir Abgrenzung brauchen\, um offen zu bleiben \nHeute möchte ich eine wichtige Erkenntnis mit euch teilen. \nWie viele von euch wissen\, nehmen Sven-Oliver und ich uns ein- bis zweimal im Jahr eine längere Auszeit. Diese Zeit ist für uns heilig – um aufzutanken\, viel in der Natur zu sein\, tief zu meditieren\, unsere Ziele zu prüfen\, sie mit unserer Vision abzugleichen und uns neu auszurichten. \nBei unserer letzten Auszeit kam in mir eine Frage auf:Warum brauche ich eigentlich eine Auszeit\, wenn ich doch regelmäßig meditiere?Und warum gibt es trotzdem Phasen\, in denen ich mich erschöpft fühle? \nVielleicht kennst du dieses Gefühl auch: Du kommst abends nach Hause und bist völlig erschöpft – obwohl du eigentlich gar nichts „Großes“ getan hast. Dein Kopf rauscht\, dein Herz ist unruhig\, und du wünschst dir einfach nur Ruhe. \nIch habe erkannt\, dass es nicht am Tun liegt\, sondern daran\, dass wir zu viel aufnehmen – zu viel von dem\, was in unser Innenfeld fließt. \nWenn Offenheit zu viel wird \nWir leben in einer Zeit\, in der alles gleichzeitig auf uns einströmt: Nachrichten\, Meinungen\, Termine\, Erwartungen – Schicht über Schicht. Unser Nervensystem ist dafür nicht geschaffen. \nWenn wir all das ungefiltert in uns aufnehmen – Informationen\, Emotionen\, Sorgen anderer – und uns zusätzlich verantwortlich fühlen für Dinge\, die gar nicht unsere sind\, dann kollabiert irgendwann unser Energiesystem. Wir sind zu offen\, zu durchlässig. \nVielleicht hast du gelernt: „Man sollte offen für alles sein.“Das klingt sympathisch\, aber es ist trügerisch. \nTotale Offenheit ist kein Zeichen von Weite\, sondern von Grenzlosigkeit.Ein Baum ist offen für Sonne und Regen – und hat dennoch eine Rinde.Dein Körper nimmt Nahrung auf – aber er verdaut nur\, was ihm guttut. \nWarum sollte es in deinem Inneren anders sein? \nAbgrenzung ist Selbstliebe \nAbgrenzung hat in unserer Gesellschaft kein gutes Image. Oft wird sie als egoistisch oder unsozial bezeichnet. Doch das Gegenteil ist wahr. \nAbgrenzung ist kein Rückzug\, sondern ein Akt der Selbstverantwortung und der Selbstliebe.Ein achtsames: „Nur das\, was mir dient.“ \nDenn wie willst du der Welt dienen\, wenn du müde und ausgelaugt bist?Wie kannst du Liebe geben\, wenn du selbst keine innere Balance hast? \nAbgrenzung ist also nicht Trennung\, sondern die Voraussetzung für echtes Dasein. \nDie unsichtbare Blase \nEs braucht eine neue Form von Schutz – eine\, die weich\, lebendig und intelligent ist.Stell dir vor\, du bist umgeben von einer feinen\, lichtdurchlässigen Blase.Sie ist keine Mauer\, sondern eine atmende Hülle\, die genau weiß\, was dir guttut und was nicht. \nSie lässt all das hinein\, was dich nährt\, inspiriert und stärkt.Und sie hält das draußen\, was dich schwächt\, überfordert oder nichts mit dir zu tun hat. \nSo bleibst du offen – aber zentriert.Mitfühlend – aber nicht überfordert.Verbunden – aber klar. \nWenn Klarheit wieder Lebensqualität bringt \nAbgrenzung ist keine Kälte.Sie ist Wärme in geordneter Form. \nSie lässt dich wieder spüren\, was wirklich wichtig ist.Du wirst ruhiger\, wacher\, klarer.Gespräche werden ehrlicher\, Begegnungen echter. \nDu reagierst nicht mehr automatisch auf alles\, sondern wählst bewusst\, womit du in Resonanz gehst.Die Welt bleibt laut\, aber du bleibst still.Und in dieser Stille öffnet sich wieder der Raum für Schönheit. \nWenn deine Aufmerksamkeit dein Zuhause wird \nEiner der kraftvollsten Wege zur Abgrenzung ist\, deine Aufmerksamkeit bewusst zu führen.Denn was du beachtest\, wächst. \nWenn du dich ständig mit allem beschäftigst\, was um dich herum passiert – Nachrichten\, Konflikte\, Sorgen anderer – verlierst du Energie.Doch sobald du deine Aufmerksamkeit zurückholst\, kehrst du in dein eigenes Feld zurück. \nDas kannst du den ganzen Tag über üben.Wann immer du merkst\, dass du dich verlierst\, atme tief\, spüre deinen Körper\, und lenke deine Wahrnehmung sanft zu dir zurück.Wie ein leises inneres „Ich bin hier“. \nMit der Zeit wird diese Rückkehr ganz natürlich. \nDie Blase ist keine Wand – sie ist Haut \nViele Menschen haben Angst\, dass Abgrenzung sie unnahbar macht.Aber eine gesunde Grenze ist wie Haut: Sie schützt – und spürt zugleich. \nDu kannst nah sein\, ohne dich zu verlieren.Empathisch\, ohne alles mitzutragen.Offen\, aber bewusst. \nDeine Blase ist kein Rückzug\, sondern ein Raum der Klarheit.Du bleibst verbunden – und frei. \nWenn deine Blase Risse bekommt \nManchmal merken wir gar nicht\, dass unsere innere Grenze löchrig geworden ist.Vielleicht erkennst du dich in diesen Momenten wieder: \n– Du bist in einem Raum voller Menschen und fühlst dich plötzlich unruhig.– Du hörst jemandem zu und trägst danach seine Sorgen mit dir herum.– Du scrollst durch Nachrichten oder Social Media und fühlst dich leer.– Du redest zu lange mit jemandem\, obwohl du innerlich schon längst gehen wolltest. \nDas sind Zeichen\, dass du zu offen warst.Dann hilft: innehalten\, atmen\, deine Blase spüren.Ein stilles „Ich bleibe bei mir.“Und dein System beginnt sich zu beruhigen. \nDeine tägliche Praxis – so stärkst du deine Blase \nAm Morgen \nNimm dir bewusst Zeit für dich:– Stehe ein wenig früher auf und schenke dir diese Zeit für Gesundheit und Ausrichtung.– 10 Minuten sanfte Körperübungen.– 10 Minuten Meditation.– 10 Minuten Tee trinken – in Ruhe – und deinen Tag liebevoll planen. \nPrüfe\, was heute wirklich wichtig ist.Entscheide\, was und wen du in dein Innenfeld lassen möchtest – und was du bewusst draußen lässt. \nIm Laufe des Tages \n– Beobachte\, was du aufnimmst – bewusst oder unbewusst.– Halte jede Stunde kurz inne und frage dich: „Wie geht es mir gerade?“– Prüfe\, ob du reagieren musst – oder ob Schweigen vielleicht genug ist.– Traue dich\, liebevoll Nein zu sagen.– Bleib achtsam im Umgang mit Medien\, Nachrichten und Social Media. \nAm Abend \n– Schalte alle Geräte aus und kehre in die Stille zurück.– Gehe deinen Tag achtsam durch: Was war gut? Wo möchtest du dich klarer halten?– Sei dankbar für das\, was du über dich gelernt hast.– Vergib – anderen und dir selbst. Wir alle geben unser Bestes.– Meditiere 15 Minuten vor dem Schlafengehen. Lass alles los\, was nicht zu dir gehört. \nTipp – dein Booster für inneres Wachstum \nWenn du lernen möchtest\, wie du dich energetisch schützen und gleichzeitig offener für das Licht in dir werden kannst\, dann erlebe es in der Praxis: \nMit der Technik von Nirmala Yoga lernst du\,– wie du dich mit einer einfachen Übung energetisch schützt\,– wie du deine Chakren über ein Fußbad von energetischem Staub befreist\,– und wie du deine Energiekanäle reinigst\, um tiefer in die Meditation zu gleiten. \nDer Weg nach Innen – Wochenendseminar12.–15. Dezember 2025Seminarhaus Sampurna (bei Wiesbaden) \nNimm dir Zeit für dich und entdecke die Kraft deiner unsichtbaren Blase – deinen Raum der Klarheit\, der Stille und der Liebe. \nMit Liebe\,Caroline \n 
URL:https://nirmalayoga.de/event/ausbildung-meditationslehrer-in-intensivwoche/
LOCATION:Seminarhaus SAMPURNA\, Am Tiergarten 1\, Schlangenbad\, 65388\, Deutschland
CATEGORIES:- Ausbildung
ATTACH;FMTTYPE=image/jpeg:https://nirmalayoga.de/wp-content/uploads/2023/03/Ausbildung16x9-1.jpeg
END:VEVENT
END:VCALENDAR