BEGIN:VCALENDAR
VERSION:2.0
PRODID:-//Nirmala Yoga - ECPv6.15.12.1//NONSGML v1.0//EN
CALSCALE:GREGORIAN
METHOD:PUBLISH
X-WR-CALNAME:Nirmala Yoga
X-ORIGINAL-URL:https://nirmalayoga.de
X-WR-CALDESC:Veranstaltungen für Nirmala Yoga
REFRESH-INTERVAL;VALUE=DURATION:PT1H
X-Robots-Tag:noindex
X-PUBLISHED-TTL:PT1H
BEGIN:VTIMEZONE
TZID:Europe/Berlin
BEGIN:DAYLIGHT
TZOFFSETFROM:+0100
TZOFFSETTO:+0200
TZNAME:CEST
DTSTART:20210328T010000
END:DAYLIGHT
BEGIN:STANDARD
TZOFFSETFROM:+0200
TZOFFSETTO:+0100
TZNAME:CET
DTSTART:20211031T010000
END:STANDARD
BEGIN:DAYLIGHT
TZOFFSETFROM:+0100
TZOFFSETTO:+0200
TZNAME:CEST
DTSTART:20220327T010000
END:DAYLIGHT
BEGIN:STANDARD
TZOFFSETFROM:+0200
TZOFFSETTO:+0100
TZNAME:CET
DTSTART:20221030T010000
END:STANDARD
BEGIN:DAYLIGHT
TZOFFSETFROM:+0100
TZOFFSETTO:+0200
TZNAME:CEST
DTSTART:20230326T010000
END:DAYLIGHT
BEGIN:STANDARD
TZOFFSETFROM:+0200
TZOFFSETTO:+0100
TZNAME:CET
DTSTART:20231029T010000
END:STANDARD
END:VTIMEZONE
BEGIN:VEVENT
DTSTART;TZID=Europe/Berlin:20220702T100000
DTEND;TZID=Europe/Berlin:20220702T200000
DTSTAMP:20260422T131716
CREATED:20220522T154917Z
LAST-MODIFIED:20220522T155021Z
UID:32401-1656756000-1656792000@nirmalayoga.de
SUMMARY:Yoga Festival Darmstadt - PEACE
DESCRIPTION:– Event für Neugierige und Einsteiger – \nNirmala Yoga ist mit dabei! \nWir möchten mit unserem Festival ein Zeichen setzen: \nGive Peace a Chance\nAuch wenn es ein großer Vergleich ist\, lassen wir uns von dem Woodstock  Festival 1969 inspirieren.  Wir glauben fest daran das es möglich ist\, eine  friedliebende Welt zu erschaffen. Auch wenn unser Beitrag klein ist\, so sind wir der festen Überzeugung\, dass jeder Gedanke und jeder Schritt in Richtung Frieden wichtig und unabdingbar ist. \n\nYFDA 2022 #Peace \n\n\n\nYoga\, Bodywork & Breathwork\nHealing Arts\, Workshops & Talks\nMarket with products made in Darmstadt\nVegan healthy food\nLocation Forest and Nature\n\n\n\n  \nDas Yoga Festival ist eine non-profit Veranstaltung. Wir sammeln Spenden für den Verein Vergiss-Mein-Nicht Hilfe für Kinder und Jugendliche e.V. in der Ukraine. \nDanke an alle Mitwirkenden\, HelferInnen und an alle die ein Ticket kaufen. Danke das du ein Zeichen setzt. \n\n  \n\n\n\nYoga\, Bodywork \, Breathwork \,Healing Arts\, Workshops & Talks with: \n\n\n\nSTEFFI @ CITYOGA ⌊Yoga & Coaching / Trigger Yoga⌋\nOSCAR @ YOGACOLLECTIVE FFM ⌊Kundalini Yoga⌋\nLISA @MABON YOGA ⌊ThaiYoga / Yoga mit CBD / Sound Meditation⌋\nSOPHIE @ SOPHIE.YOGA ⌊Rainforest Vinyasa Yoga ⌋\nEVA HERBIG ⌊Jivamukti Yoga ⌋\nANJA HAAG @ ANJALI YOGA ⌊Power Yoga⌋\nBORIS @ YOGIBO ⌊ Broga ⌋\nVALENTINA PETERMANN ⌊Yoga auf Spanisch⌋\nMAURICE @ MOCICA ⌊kräftigendes Faszientraining mit Triggerndingern⌋\nNICOLA MALKMUS ⌊Hypnose & Coaching⌋\nEVA LANG @ ORIGIN OF MIND ⌊Breathwork⌋\nSVEN OLIVER @ nirmalayoga.de ⌊Meditation & Energie Arbeit⌋\nBIANKA ⌊Ecstatic dance⌋\nJNIFA ⌊African Traditional⌋\nMANOLIS ⌊DJ⌋\n\n\n\n  \n  \n\n\n\nLokation \nDer Jugendhof Bessunger Forst liegt auf einem idyllischen Wald- und Wiesen-Gelände im Wald zwischen Darmstadt und Roßdorf. Diverse Gebäude und Aufenthaltsplätze verteilen sich weiträumig auf dem 18.000 Quadratmeter großen Grundstück. \n\n\n\nVegan Food @Fräulein Zuckertopf \nMehr Infos auf findest du HIER. Wir freuen uns dich zu sehen. \n 
URL:https://nirmalayoga.de/event/yoga-festival-darmstadt-peace/
LOCATION:Jugendhof Bessunger Forst e.V.\, Aschaffenburger Straße 183\, Darmstadt\, 64287
ATTACH;FMTTYPE=image/jpeg:https://nirmalayoga.de/wp-content/uploads/2022/05/Yoga-Festival-Darmstadt.jpg
END:VEVENT
END:VCALENDAR